BEGIN:VCALENDAR
VERSION:2.0
PRODID:-//wp-events-plugin.com//7.2.3.1//EN
TZID:America/Bogota
X-WR-TIMEZONE:America/Bogota
BEGIN:VEVENT
UID:1109@dancemosjuntos.org
DTSTART;TZID=America/Bogota:20260421T190000
DTEND;TZID=America/Bogota:20260421T201500
DTSTAMP:20260421T145124Z
URL:https://dancemosjuntos.org/Home/eventos/el-arte-de-cuidar-dos-saberes-
 dos-dialogos-para-sostener-la-vida-celebracion-dia-mundial-de-biodanza/
SUMMARY:El arte de cuidar: dos saberes - dos diálogos para sostener la vid
 a. Celebración del mes de la Biodanza
DESCRIPTION:Encuentro virtual en el marco de la "Celebración del mes de la
  Biodanza": El arte de cuidar: dos saberes que se integran con la biodanza
 . dos diálogos para sostener la vida.\n\n 	\n\n 	Organiza: APBC\n 	Facili
 tan:\n\n 	Luzvian Saray Rubio . Enfermera. Facilitadora didacta de Biodanz
 a\n 	María Helena García. Médico. Facilitadora didacta de Biodanza\n\n\
 n\n\n 	Fecha:  Martes 21 de abril 2026\n 	Teléfono de contacto: Leticia 
 Ospina 316 319 42 45\n 	Lugar del evento: Plataforma zoom. Contactar al or
 ganizador para obtener el link\n 	Inversión: Acceso libre\n\n¡Bienvenido
 s!
ATTACH;FMTTYPE=image/jpeg:https://dancemosjuntos.org/Home/wp-content/uploa
 ds/2026/04/Luzvian-Hache.jpg
CATEGORIES:Conversatorio online
END:VEVENT
BEGIN:VTIMEZONE
TZID:America/Bogota
X-LIC-LOCATION:America/Bogota
BEGIN:STANDARD
DTSTART:20250421T190000
TZOFFSETFROM:-0500
TZOFFSETTO:-0500
TZNAME:-05
END:STANDARD
END:VTIMEZONE
END:VCALENDAR